BEGIN:VCALENDAR
VERSION:2.0
PRODID:-//10K Lakes - ECPv6.15.18//NONSGML v1.0//EN
CALSCALE:GREGORIAN
METHOD:PUBLISH
X-WR-CALNAME:10K Lakes
X-ORIGINAL-URL:https://10klakes.org
X-WR-CALDESC:Events for 10K Lakes
REFRESH-INTERVAL;VALUE=DURATION:PT1H
X-Robots-Tag:noindex
X-PUBLISHED-TTL:PT1H
BEGIN:VTIMEZONE
TZID:America/New_York
BEGIN:DAYLIGHT
TZOFFSETFROM:-0500
TZOFFSETTO:-0400
TZNAME:EDT
DTSTART:20250309T070000
END:DAYLIGHT
BEGIN:STANDARD
TZOFFSETFROM:-0400
TZOFFSETTO:-0500
TZNAME:EST
DTSTART:20251102T060000
END:STANDARD
BEGIN:DAYLIGHT
TZOFFSETFROM:-0500
TZOFFSETTO:-0400
TZNAME:EDT
DTSTART:20260308T070000
END:DAYLIGHT
BEGIN:STANDARD
TZOFFSETFROM:-0400
TZOFFSETTO:-0500
TZNAME:EST
DTSTART:20261101T060000
END:STANDARD
BEGIN:DAYLIGHT
TZOFFSETFROM:-0500
TZOFFSETTO:-0400
TZNAME:EDT
DTSTART:20270314T070000
END:DAYLIGHT
BEGIN:STANDARD
TZOFFSETFROM:-0400
TZOFFSETTO:-0500
TZNAME:EST
DTSTART:20271107T060000
END:STANDARD
END:VTIMEZONE
BEGIN:VEVENT
DTSTART;TZID=America/New_York:20260101T080000
DTEND;TZID=America/New_York:20260630T170000
DTSTAMP:20260421T051726
CREATED:20250102T182005Z
LAST-MODIFIED:20251223T222517Z
UID:393-1767254400-1782838800@10klakes.org
SUMMARY:2026 10\,000 Lakes Chapter of ICC Membership
DESCRIPTION:Registration for the 2026 10\,000 Lakes Chapter Membership
URL:https://10klakes.org/event/2025-10000-lakes-chapter-of-icc-membership/
LOCATION:MN
END:VEVENT
BEGIN:VEVENT
DTSTART;TZID=America/New_York:20260116T080000
DTEND;TZID=America/New_York:20260116T153000
DTSTAMP:20260421T051726
CREATED:20250923T181924Z
LAST-MODIFIED:20260105T151332Z
UID:925-1768550400-1768577400@10klakes.org
SUMMARY:10K Annual Institute – Track One (Friday)
DESCRIPTION:Listed below is the information for all classes for Track One on Friday.  \nAll 4 classes are covered under the $225 ticket for the day. \n  \nClass 1 – Friday 8:00 A.M – 11:15 A.M \nTopic: Basic and Advanced Requirements of the Accessibility Code \nSpeakers: Karen Gridley \nModerator: TBD \nDescription: Presented by Karen Gridley of the Plan Review unit of the Mn Department of Labor and Industry\, provides the attendees with updated information\, as it pertains changes for the accessibility requirements of the Code including updates on Adult Changing stations and more. \n\n  \nClass 2 – Friday 12:15 P.M – 3:30 P.M \nTopic: Basic and Advanced Requirements of the Accessibility Code \nSpeakers: Karen Gridley \nModerator: TBD \nDescription: Presented by Karen Gridley of the Plan Review unit of the Mn Department of Labor and Industry\, provides the attendees with updated information\, as it pertains changes for the accessibility requirements of the Code including updates on Adult Changing stations and more. \n\n 
URL:https://10klakes.org/event/10k-annual-institute-track-one-friday/
LOCATION:Plymouth Community Center\, 14800 34th Ave N\, Plymouth\, 55447\, United States
END:VEVENT
BEGIN:VEVENT
DTSTART;TZID=America/New_York:20260116T080000
DTEND;TZID=America/New_York:20260116T153000
DTSTAMP:20260421T051726
CREATED:20250923T185101Z
LAST-MODIFIED:20251014T130611Z
UID:933-1768550400-1768577400@10klakes.org
SUMMARY:10K Annual Institute - Track Two (Friday)
DESCRIPTION:Listed below is the information for all classes for Track Two on Friday.  \nThis all-day class is covered under the $300 ticket for the day. \n  \nClass 1 – Friday 8:00 A.M – 3:30 P.M \nTopic: Sewer & Septic Licensing (SSTS) Sub-surface Sewage Treatment System \nSpeakers: U of M Instructors Pete Otterness\, Dave Gustafson\, Cody Robinson \nModerator: Eric Tessman \nDescription: \n8:00 – 9:30 am – What compliance looks like in MN for Type I to Type V systems – Dave Gustafson \n9:45 – 11:15 am – MPCA – LGU Inspections for Design and Compliance – MPCA – Cody Robinson \n11:15 am – 12:15 pm – lunch \n12:15 – 1:45 pm – Design Review for approval and permitting. – Pete Otterness \n1:45 – 2:00 pm – break \n2:00 – 3:30 pm – Dealing with difficult sites and the use of Type III or Type IV systems for solutions and the operation requirements that come with them. Pete Otterness: Type III examples/solutions and Dave Gustafson: Type IV and operations. Using the pieces of 7080.2300 and 7080.2350 what can be done for difficult sites. If choices are made that are not a Type I system as listed in 7080.2200\, what implications are required for the life of the system to deal with the changes made for a compliant installation. \n\nName of speaker(s) –  Pete Otterness\, Dave Gustafson\, Cody Robinson \n\nAffiliation / Company of speaker – University of Minnesota Onsite Sewage Treatment Program\, Minnesota Pollution Control Agency\nMailing address – 1985 Buford Ave\, 173 McNeal Hall\, St. Paul MN 55108\,  520 Lafayette Road\, St. Paul\, MN 55155\nEmail address – otternes@umn.edu\, gusta002@umn.edu\,  cody.robinson@state.mn.us\nPrimary phone number – 800-322-8642\, 651-757-2535
URL:https://10klakes.org/event/10k-annual-institute-track-two-friday/
LOCATION:Plymouth Community Center\, 14800 34th Ave N\, Plymouth\, 55447\, United States
END:VEVENT
BEGIN:VEVENT
DTSTART;TZID=America/New_York:20260116T080000
DTEND;TZID=America/New_York:20260116T153000
DTSTAMP:20260421T051726
CREATED:20250923T191105Z
LAST-MODIFIED:20251217T152049Z
UID:944-1768550400-1768577400@10klakes.org
SUMMARY:10K Annual Institute - Track Three (Friday)
DESCRIPTION:Listed below is the information for all classes for Track Three on Friday.  \nAll 4 classes are covered under the $225 ticket for the day. \n  \nClass 1 – Friday 8:00 A.M – 11:15 A.M \nCategory: Building \nTopic: Commercial Energy from Code to Plan to Field\n \nSpeakers: Hope Medina \nModerator: TBD \nDescription: Seminar goes over what should be provided on the plans for reviewing a project to get the desired results in the field for the contractors and inspectors for energy compliance \n\n  \nClass 2 – Friday 12:15 P.M – 3:30 P.M \nCategory: Building \nTopic: Commercial Energy from Code to Plan to Field\n \nSpeakers: Hope Medina \nModerator: TBD \nDescription: Seminar goes over what should be provided on the plans for reviewing a project to get the desired results in the field for the contractors and inspectors for energy compliance \n\n 
URL:https://10klakes.org/event/10k-annual-institute-track-three-friday/
LOCATION:Plymouth Community Center\, 14800 34th Ave N\, Plymouth\, 55447\, United States
END:VEVENT
BEGIN:VEVENT
DTSTART;TZID=America/New_York:20260116T080000
DTEND;TZID=America/New_York:20260116T153000
DTSTAMP:20260421T051726
CREATED:20250923T193025Z
LAST-MODIFIED:20260105T133304Z
UID:953-1768550400-1768577400@10klakes.org
SUMMARY:10K Annual Institute - Track Four (Friday)
DESCRIPTION:Listed below is the information for all classes for Track Four on Friday.  \nClasses are covered under the $225 ticket for the day. \n  \nClass 1 – Friday 8:00 A.M – 11:15 A.M \nCategory: Mechanical \nTopic: Commercial Mechanical Code Updates \nSpeakers: Josh Harmon – Shums Coda \nModerator: Arlen Madsen \nDescription: This course reviews the proposed updates to the base codes and reviews practical methods of code review and how requirements for plan details provided by designers can facilitate timely and accurate plan approval \n\n  \nClass 2 – Friday 12:15 P.M – 3:30 P.M \nCategory: Mechanical \nTopic: Commercial Mechanical Code Updates \nSpeakers: Josh Harmon – Shums Coda \nModerator: Arlen Madsen \nDescription: This course reviews the proposed updates to the base codes and reviews practical methods of code review and how requirements for plan details provided by designers can facilitate timely and accurate plan approval \n\n 
URL:https://10klakes.org/event/10k-annual-institute-track-four-friday/
LOCATION:Plymouth Community Center\, 14800 34th Ave N\, Plymouth\, 55447\, United States
END:VEVENT
END:VCALENDAR